BEGIN:VCALENDAR
VERSION:2.0
PRODID:-//Joseph Finder - ECPv6.15.20//NONSGML v1.0//EN
CALSCALE:GREGORIAN
METHOD:PUBLISH
X-WR-CALNAME:Joseph Finder
X-ORIGINAL-URL:https://josephfinder.com
X-WR-CALDESC:Events for Joseph Finder
REFRESH-INTERVAL;VALUE=DURATION:PT1H
X-Robots-Tag:noindex
X-PUBLISHED-TTL:PT1H
BEGIN:VTIMEZONE
TZID:America/New_York
BEGIN:DAYLIGHT
TZOFFSETFROM:-0500
TZOFFSETTO:-0400
TZNAME:EDT
DTSTART:20250309T070000
END:DAYLIGHT
BEGIN:STANDARD
TZOFFSETFROM:-0400
TZOFFSETTO:-0500
TZNAME:EST
DTSTART:20251102T060000
END:STANDARD
BEGIN:DAYLIGHT
TZOFFSETFROM:-0500
TZOFFSETTO:-0400
TZNAME:EDT
DTSTART:20260308T070000
END:DAYLIGHT
BEGIN:STANDARD
TZOFFSETFROM:-0400
TZOFFSETTO:-0500
TZNAME:EST
DTSTART:20261101T060000
END:STANDARD
BEGIN:DAYLIGHT
TZOFFSETFROM:-0500
TZOFFSETTO:-0400
TZNAME:EDT
DTSTART:20270314T070000
END:DAYLIGHT
BEGIN:STANDARD
TZOFFSETFROM:-0400
TZOFFSETTO:-0500
TZNAME:EST
DTSTART:20271107T060000
END:STANDARD
END:VTIMEZONE
BEGIN:VEVENT
DTSTART;TZID=America/New_York:20260505T080000
DTEND;TZID=America/New_York:20260509T170000
DTSTAMP:20260425T083934
CREATED:20260311T141544Z
LAST-MODIFIED:20260312T005749Z
UID:1218-1777968000-1778346000@josephfinder.com
SUMMARY:ThrillerFest XXI
DESCRIPTION:ThrillerFest is the annual conference of the International Thriller Writers. This unique\, popular\, and rapidly expanding organization was created in 2005 by several bestselling authors in order to bring thousands of writers\, readers\, publishers\, producers\, editors\, and agents together to promote and support thriller authors everywhere. \nThe ThrillerFest conference has seven main components: FBI Day\, Master Class 1.0\, CraftFest\, Master Class 2.0\, ConnectFest\, QueryFest\, PitchFest\, ThrillerFest\, and the Awards Banquet.
URL:https://josephfinder.com/event/thrillerfest-xxi/
LOCATION:New York Hilton Midtown\, 1335 Avenue\, New York\, NY\, 10019\, United States
ATTACH;FMTTYPE=image/png:https://josephfinder.com/wp-content/uploads/2026/03/Logo_home_v2-1-469x183-1.png
END:VEVENT
BEGIN:VEVENT
DTSTART;TZID=America/New_York:20260524T080000
DTEND;TZID=America/New_York:20260528T170000
DTSTAMP:20260425T083934
CREATED:20260311T142305Z
LAST-MODIFIED:20260311T142305Z
UID:1227-1779609600-1779987600@josephfinder.com
SUMMARY:Jerusalem Book Festival
DESCRIPTION:
URL:https://josephfinder.com/event/jerusalem-book-festival/
LOCATION:LA
END:VEVENT
BEGIN:VEVENT
DTSTART;TZID=America/New_York:20261021T080000
DTEND;TZID=America/New_York:20261025T170000
DTSTAMP:20260425T083934
CREATED:20260311T142838Z
LAST-MODIFIED:20260312T005630Z
UID:1231-1792569600-1792947600@josephfinder.com
SUMMARY:Bouchercon 2026
DESCRIPTION:The World Mystery Convention is a nonprofit\, organization which holds an annual convention in honor of Anthony Boucher\, the distinguished mystery fiction critic\, editor and author. \nIt is the world’s premier event bringing together all parts of the mystery and crime fiction community\, and is pronounced [bough’•chur•con]. \nBouchercon® is the annual world mystery convention where every year readers\, writers\, publishers\, editors\, agents\, booksellers and other lovers of crime fiction gather for a 4-day weekend of education\, entertainment\, and fun! \nThe first Bouchercon took place in 1970 in Santa Monica\, California. Subsequent Bouchercons have been held in many cities across the United States\, as well as in Toronto and the UK. \nA local organizing committee takes on the task of bringing each year’s convention to life.It’s all BY FANS\, FOR FANS.
URL:https://josephfinder.com/event/bouchercon-2026/
LOCATION:Calgary TELUS Convention Centre\, 120 – 9 th Avenue SE\, Calgary\, Alberta\, Canada
ATTACH;FMTTYPE=image/png:https://josephfinder.com/wp-content/uploads/2026/03/2025-FINAL-2.png
END:VEVENT
END:VCALENDAR